BEGIN:VCALENDAR
PRODID:-//Eem//SV
VERSION:2.0
METHOD:PUBLISH
BEGIN:VEVENT
CLASS:PUBLIC
CREATED:20260423T075628Z
DESCRIPTION:Sammanfattning: Clinical Neurophysiology of the Peripheral Nervous system\n\nMer information: https://forening.sls.se/svenskneurofysiologi/kalendarium/course-in-emg-neurography-and-neuromuscular-ultrasound
DTEND;VALUE=DATE:20261008
DTSTAMP:20260423T075628Z
DTSTART;VALUE=DATE:20261005
LAST-MODIFIED:20260423T075628Z
LOCATION:Uppsala
SEQUENCE:0
SUMMARY:Course in EMG, Neurography and Neuromuscular Ultrasound
STATUS:CONFIRMED
TRANSP:TRANSPARENT
UID:a8b5305c-bc04-41f1-b6cb-811713b7a0ef
END:VEVENT
END:VCALENDAR
