BEGIN:VCALENDAR
PRODID:-//Eem//SV
VERSION:2.0
METHOD:PUBLISH
BEGIN:VEVENT
CLASS:PUBLIC
CREATED:20260420T150445Z
DESCRIPTION:Sammanfattning: Kallelse och Årsmöteshandlingar
\n\nMer information: https://forening.sls.se/sfaim/aktuellt/kallelse-arsmote
DTEND:20260424T180000Z
DTSTAMP:20260420T150445Z
DTSTART:20260424T171000Z
LAST-MODIFIED:20260420T150445Z
LOCATION:Lund, Vårmötet
SEQUENCE:0
SUMMARY:Kallelse årsmöte
STATUS:CONFIRMED
TRANSP:TRANSPARENT
UID:a1e6bf35-0478-424b-ac18-7ed9da98fd87
END:VEVENT
END:VCALENDAR
