BEGIN:VCALENDAR
PRODID:-//Eem//SV
VERSION:2.0
METHOD:PUBLISH
BEGIN:VEVENT
CLASS:PUBLIC
CREATED:20260423T080715Z
DESCRIPTION:Sammanfattning: Digitalt deltagande är helt gratis för SvKFs medlemmar!\n\nMer information: https://forening.sls.se/svkf/kalender/bcis-aci-2026
DTEND;VALUE=DATE:20260129
DTSTAMP:20260423T080715Z
DTSTART;VALUE=DATE:20260128
LAST-MODIFIED:20260423T080715Z
LOCATION:London och digitalt
SEQUENCE:0
SUMMARY:BCIS ACI 2026
STATUS:CONFIRMED
TRANSP:TRANSPARENT
UID:49c33014-797f-4600-b3cb-20e88f468d6f
END:VEVENT
END:VCALENDAR
