BEGIN:VCALENDAR
PRODID:-//Eem//SV
VERSION:2.0
METHOD:PUBLISH
BEGIN:VEVENT
CLASS:PUBLIC
CREATED:20260423T081921Z
DESCRIPTION:Sammanfattning: Årets Nationella utbildningsdagar inom klinisk neurofysiologi äger rum den 4–6 februari 2026 i Stockholm.\n\nMer information: https://forening.sls.se/svenskneurofysiologi/kalendarium/nationella-neurofysdagarna-2026
DTEND;VALUE=DATE:20260206
DTSTAMP:20260423T081921Z
DTSTART;VALUE=DATE:20260204
LAST-MODIFIED:20260423T081921Z
LOCATION:Stockholm
SEQUENCE:0
SUMMARY:Nationella Neurofysdagarna 2026
STATUS:CONFIRMED
TRANSP:TRANSPARENT
UID:b3ce912d-d809-4216-aaa6-979cc9b35da9
END:VEVENT
END:VCALENDAR
