BEGIN:VCALENDAR
PRODID:-//Eem//SV
VERSION:2.0
METHOD:PUBLISH
BEGIN:VEVENT
CLASS:PUBLIC
CREATED:20260423T075628Z
DESCRIPTION:Sammanfattning: Internationell konferens om vård efter hjärtstopp\n\nMer information: https://forening.sls.se/svenskneurofysiologi/kalendarium/6th-international-symposium-on-post-cardiac-arrest-care
DTEND;VALUE=DATE:20260911
DTSTAMP:20260423T075628Z
DTSTART;VALUE=DATE:20260909
LAST-MODIFIED:20260423T075628Z
LOCATION:Lund
SEQUENCE:0
SUMMARY:6th International Symposium on Post Cardiac Arrest Care
STATUS:CONFIRMED
TRANSP:TRANSPARENT
UID:5f05513d-e758-4fda-ae6f-2d9872fe7f04
END:VEVENT
END:VCALENDAR
