BEGIN:VCALENDAR
PRODID:-//Eem//SV
VERSION:2.0
METHOD:PUBLISH
BEGIN:VEVENT
CLASS:PUBLIC
CREATED:20260420T150502Z
DESCRIPTION:Sammanfattning: Några platser kvar!\n\nMer information: https://forening.sls.se/sfaim/aktuellt/steg-1-kurs-i-idrottsmedicin
DTEND;VALUE=DATE:20260614
DTSTAMP:20260420T150502Z
DTSTART;VALUE=DATE:20260608
LAST-MODIFIED:20260420T150502Z
LOCATION:Gotland
SEQUENCE:0
SUMMARY:Steg 1-kurs i Idrottsmedicin
STATUS:CONFIRMED
TRANSP:TRANSPARENT
UID:36be2049-0e38-4309-9675-9b8a3828f865
END:VEVENT
END:VCALENDAR
